BEGIN:VCALENDAR
VERSION:2.0
PRODID:-//West Africa Examinations Council - ECPv6.15.20//NONSGML v1.0//EN
CALSCALE:GREGORIAN
METHOD:PUBLISH
X-WR-CALNAME:West Africa Examinations Council
X-ORIGINAL-URL:https://www.waecheadquartersgh.org/whq
X-WR-CALDESC:Events for West Africa Examinations Council
REFRESH-INTERVAL;VALUE=DURATION:PT1H
X-Robots-Tag:noindex
X-PUBLISHED-TTL:PT1H
BEGIN:VTIMEZONE
TZID:UTC
BEGIN:STANDARD
TZOFFSETFROM:+0000
TZOFFSETTO:+0000
TZNAME:UTC
DTSTART:20240101T000000
END:STANDARD
END:VTIMEZONE
BEGIN:VEVENT
DTSTART;TZID=UTC:20251201T080000
DTEND;TZID=UTC:20251202T170000
DTSTAMP:20260423T051844
CREATED:20241204T170134Z
LAST-MODIFIED:20241204T170134Z
UID:2403-1764576000-1764694800@www.waecheadquartersgh.org
SUMMARY:Registrar’s Annual Staff Appraisal and Consultative Committee Meeting in Accra
DESCRIPTION:
URL:https://www.waecheadquartersgh.org/whq/event/registrars-annual-staff-appraisal-and-consultative-committee-meeting-in-accra-2/
CATEGORIES:Committee Meetings
END:VEVENT
BEGIN:VEVENT
DTSTART;TZID=UTC:20251127T080000
DTEND;TZID=UTC:20251128T170000
DTSTAMP:20260423T051844
CREATED:20241204T170018Z
LAST-MODIFIED:20241204T170018Z
UID:2401-1764230400-1764349200@www.waecheadquartersgh.org
SUMMARY:Nigeria National Committee Meeting
DESCRIPTION:
URL:https://www.waecheadquartersgh.org/whq/event/nigeria-national-committee-meeting/
CATEGORIES:Committee Meetings
END:VEVENT
BEGIN:VEVENT
DTSTART;TZID=UTC:20251125T080000
DTEND;TZID=UTC:20251126T170000
DTSTAMP:20260423T051844
CREATED:20241204T165925Z
LAST-MODIFIED:20241204T165925Z
UID:2399-1764057600-1764176400@www.waecheadquartersgh.org
SUMMARY:Nigeria Administrative and Finance Committee and Nigeria Tenders Board Meeting
DESCRIPTION:
URL:https://www.waecheadquartersgh.org/whq/event/nigeria-administrative-and-finance-committee-and-nigeria-tenders-board-meeting/
CATEGORIES:Board Meetings,Committee Meetings
END:VEVENT
BEGIN:VEVENT
DTSTART;TZID=UTC:20251111T080000
DTEND;TZID=UTC:20251112T170000
DTSTAMP:20260423T051844
CREATED:20241204T165634Z
LAST-MODIFIED:20241204T165634Z
UID:2395-1762848000-1762966800@www.waecheadquartersgh.org
SUMMARY:Liberia Administrative and Finance Committee Meeting
DESCRIPTION:
URL:https://www.waecheadquartersgh.org/whq/event/liberia-administrative-and-finance-committee-meeting/
CATEGORIES:Committee Meetings
END:VEVENT
BEGIN:VEVENT
DTSTART;TZID=UTC:20251110T080000
DTEND;TZID=UTC:20251110T170000
DTSTAMP:20260423T051844
CREATED:20241204T165444Z
LAST-MODIFIED:20241204T165444Z
UID:2393-1762761600-1762794000@www.waecheadquartersgh.org
SUMMARY:Liberia Examinations Committee Meeting
DESCRIPTION:
URL:https://www.waecheadquartersgh.org/whq/event/liberia-examinations-committee-meeting-2/
CATEGORIES:Committee Meetings
END:VEVENT
BEGIN:VEVENT
DTSTART;TZID=UTC:20251105T080000
DTEND;TZID=UTC:20251106T170000
DTSTAMP:20260423T051844
CREATED:20241204T165321Z
LAST-MODIFIED:20241204T165321Z
UID:2391-1762329600-1762448400@www.waecheadquartersgh.org
SUMMARY:Ghana National Committee Meeting
DESCRIPTION:
URL:https://www.waecheadquartersgh.org/whq/event/ghana-national-committee-meeting/
CATEGORIES:Committee Meetings
END:VEVENT
BEGIN:VEVENT
DTSTART;TZID=UTC:20251104T080000
DTEND;TZID=UTC:20251104T170000
DTSTAMP:20260423T051844
CREATED:20241204T165214Z
LAST-MODIFIED:20241204T165214Z
UID:2389-1762243200-1762275600@www.waecheadquartersgh.org
SUMMARY:Ghana Administrative and Finance Committee Meeting
DESCRIPTION:
URL:https://www.waecheadquartersgh.org/whq/event/ghana-administrative-and-finance-committee-meeting-3/
CATEGORIES:Committee Meetings
END:VEVENT
BEGIN:VEVENT
DTSTART;TZID=UTC:20251103T080000
DTEND;TZID=UTC:20251103T170000
DTSTAMP:20260423T051844
CREATED:20241204T165105Z
LAST-MODIFIED:20241204T165105Z
UID:2387-1762156800-1762189200@www.waecheadquartersgh.org
SUMMARY:Ghana Examinations Committee Meeting
DESCRIPTION:
URL:https://www.waecheadquartersgh.org/whq/event/ghana-examinations-committee-meeting/
CATEGORIES:Committee Meetings
END:VEVENT
END:VCALENDAR