BEGIN:VCALENDAR
VERSION:2.0
PRODID:-//West Africa Examinations Council - ECPv6.15.20//NONSGML v1.0//EN
CALSCALE:GREGORIAN
METHOD:PUBLISH
X-WR-CALNAME:West Africa Examinations Council
X-ORIGINAL-URL:https://www.waecheadquartersgh.org/whq
X-WR-CALDESC:Events for West Africa Examinations Council
REFRESH-INTERVAL;VALUE=DURATION:PT1H
X-Robots-Tag:noindex
X-PUBLISHED-TTL:PT1H
BEGIN:VTIMEZONE
TZID:UTC
BEGIN:STANDARD
TZOFFSETFROM:+0000
TZOFFSETTO:+0000
TZNAME:UTC
DTSTART:20250101T000000
END:STANDARD
END:VTIMEZONE
BEGIN:VEVENT
DTSTART;TZID=UTC:20261001T080000
DTEND;TZID=UTC:20261001T170000
DTSTAMP:20260423T132752
CREATED:20251125T121848Z
LAST-MODIFIED:20251125T121848Z
UID:2820-1790841600-1790874000@www.waecheadquartersgh.org
SUMMARY:Ghana Business Examinations Committee Meeting
DESCRIPTION:
URL:https://www.waecheadquartersgh.org/whq/event/ghana-business-examinations-committee-meeting/
CATEGORIES:Committee Meetings
END:VEVENT
BEGIN:VEVENT
DTSTART;TZID=UTC:20261008T080000
DTEND;TZID=UTC:20261009T170000
DTSTAMP:20260423T132752
CREATED:20251125T122143Z
LAST-MODIFIED:20251125T122143Z
UID:2822-1791446400-1791565200@www.waecheadquartersgh.org
SUMMARY:International Final Awards and Examiners’ Appointments Committee Meeting in Banjul*
DESCRIPTION:
URL:https://www.waecheadquartersgh.org/whq/event/international-final-awards-and-examiners-appointments-committee-meeting-in-banjul/
CATEGORIES:Committee Meetings
END:VEVENT
BEGIN:VEVENT
DTSTART;TZID=UTC:20261019T080000
DTEND;TZID=UTC:20261019T170000
DTSTAMP:20260423T132752
CREATED:20251125T122412Z
LAST-MODIFIED:20251125T122439Z
UID:2824-1792396800-1792429200@www.waecheadquartersgh.org
SUMMARY:Sierra Leone Examinations Committee Meeting
DESCRIPTION:
URL:https://www.waecheadquartersgh.org/whq/event/sierra-leone-examinations-committee-meeting/
CATEGORIES:Committee Meetings
END:VEVENT
BEGIN:VEVENT
DTSTART;TZID=UTC:20261020T080000
DTEND;TZID=UTC:20261020T170000
DTSTAMP:20260423T132752
CREATED:20251125T123044Z
LAST-MODIFIED:20251125T123044Z
UID:2827-1792483200-1792515600@www.waecheadquartersgh.org
SUMMARY:Sierra Leone Appointments Committee Meeting
DESCRIPTION:
URL:https://www.waecheadquartersgh.org/whq/event/sierra-leone-appointments-committee-meeting/
CATEGORIES:Committee Meetings
END:VEVENT
BEGIN:VEVENT
DTSTART;TZID=UTC:20261021T080000
DTEND;TZID=UTC:20261021T170000
DTSTAMP:20260423T132752
CREATED:20251125T123407Z
LAST-MODIFIED:20251125T123448Z
UID:2829-1792569600-1792602000@www.waecheadquartersgh.org
SUMMARY:Sierra Leone Administrative and Finance Committee Meeting and Tenders Board Meeting
DESCRIPTION:
URL:https://www.waecheadquartersgh.org/whq/event/sierra-leone-administrative-and-finance-committee-meeting-and-tenders-board-meeting/
CATEGORIES:Board Meetings,Committee Meetings
END:VEVENT
BEGIN:VEVENT
DTSTART;TZID=UTC:20261022T080000
DTEND;TZID=UTC:20261023T170000
DTSTAMP:20260423T132752
CREATED:20251125T144636Z
LAST-MODIFIED:20251125T144636Z
UID:2832-1792656000-1792774800@www.waecheadquartersgh.org
SUMMARY:Sierra Leone National Committee Meeting
DESCRIPTION:
URL:https://www.waecheadquartersgh.org/whq/event/sierra-leone-national-committee-meeting/
CATEGORIES:Committee Meetings
END:VEVENT
BEGIN:VEVENT
DTSTART;TZID=UTC:20261026T080000
DTEND;TZID=UTC:20261026T170000
DTSTAMP:20260423T132752
CREATED:20251125T145319Z
LAST-MODIFIED:20251125T145319Z
UID:2834-1793001600-1793034000@www.waecheadquartersgh.org
SUMMARY:The Gambia Examinations Committee Meeting
DESCRIPTION:
URL:https://www.waecheadquartersgh.org/whq/event/the-gambia-examinations-committee-meeting/
CATEGORIES:Committee Meetings
END:VEVENT
BEGIN:VEVENT
DTSTART;TZID=UTC:20261027T080000
DTEND;TZID=UTC:20261027T170000
DTSTAMP:20260423T132752
CREATED:20251127T172006Z
LAST-MODIFIED:20251127T172006Z
UID:2837-1793088000-1793120400@www.waecheadquartersgh.org
SUMMARY:The Gambia Appointments Committee Meeting
DESCRIPTION:
URL:https://www.waecheadquartersgh.org/whq/event/the-gambia-appointments-committee-meeting/
CATEGORIES:Committee Meetings
END:VEVENT
BEGIN:VEVENT
DTSTART;TZID=UTC:20261028T080000
DTEND;TZID=UTC:20261028T170000
DTSTAMP:20260423T132752
CREATED:20251127T172125Z
LAST-MODIFIED:20251127T172125Z
UID:2839-1793174400-1793206800@www.waecheadquartersgh.org
SUMMARY:The Gambia Administrative and Finance Committee Meeting
DESCRIPTION:28 Wednesday 
URL:https://www.waecheadquartersgh.org/whq/event/the-gambia-administrative-and-finance-committee-meeting-2/
CATEGORIES:Committee Meetings
END:VEVENT
BEGIN:VEVENT
DTSTART;TZID=UTC:20261029T080000
DTEND;TZID=UTC:20261030T170000
DTSTAMP:20260423T132752
CREATED:20251127T172245Z
LAST-MODIFIED:20251127T172245Z
UID:2841-1793260800-1793379600@www.waecheadquartersgh.org
SUMMARY:The Gambia National Committee Meeting
DESCRIPTION:
URL:https://www.waecheadquartersgh.org/whq/event/the-gambia-national-committee-meeting/
CATEGORIES:Committee Meetings
END:VEVENT
END:VCALENDAR