BEGIN:VCALENDAR
VERSION:2.0
PRODID:-//West Africa Examinations Council - ECPv6.15.20//NONSGML v1.0//EN
CALSCALE:GREGORIAN
METHOD:PUBLISH
X-WR-CALNAME:West Africa Examinations Council
X-ORIGINAL-URL:https://www.waecheadquartersgh.org/whq
X-WR-CALDESC:Events for West Africa Examinations Council
REFRESH-INTERVAL;VALUE=DURATION:PT1H
X-Robots-Tag:noindex
X-PUBLISHED-TTL:PT1H
BEGIN:VTIMEZONE
TZID:UTC
BEGIN:STANDARD
TZOFFSETFROM:+0000
TZOFFSETTO:+0000
TZNAME:UTC
DTSTART:20240101T000000
END:STANDARD
END:VTIMEZONE
BEGIN:VEVENT
DTSTART;VALUE=DATE:20260112
DTEND;VALUE=DATE:20260113
DTSTAMP:20260423T034331
CREATED:20251125T101938Z
LAST-MODIFIED:20251125T102013Z
UID:2764-1768176000-1768262399@www.waecheadquartersgh.org
SUMMARY:Meeting of the Board of Trustees of the Endowment Fund in Accra*
DESCRIPTION:
URL:https://www.waecheadquartersgh.org/whq/event/meeting-of-the-board-of-trustees-of-the-endowment-fund-in-accra/
CATEGORIES:Board Meetings
END:VEVENT
BEGIN:VEVENT
DTSTART;TZID=UTC:20251125T080000
DTEND;TZID=UTC:20251126T170000
DTSTAMP:20260423T034331
CREATED:20241204T165925Z
LAST-MODIFIED:20241204T165925Z
UID:2399-1764057600-1764176400@www.waecheadquartersgh.org
SUMMARY:Nigeria Administrative and Finance Committee and Nigeria Tenders Board Meeting
DESCRIPTION:
URL:https://www.waecheadquartersgh.org/whq/event/nigeria-administrative-and-finance-committee-and-nigeria-tenders-board-meeting/
CATEGORIES:Board Meetings,Committee Meetings
END:VEVENT
END:VCALENDAR