BEGIN:VCALENDAR
VERSION:2.0
PRODID:-//West Africa Examinations Council - ECPv6.15.20//NONSGML v1.0//EN
CALSCALE:GREGORIAN
METHOD:PUBLISH
X-WR-CALNAME:West Africa Examinations Council
X-ORIGINAL-URL:https://www.waecheadquartersgh.org/whq
X-WR-CALDESC:Events for West Africa Examinations Council
REFRESH-INTERVAL;VALUE=DURATION:PT1H
X-Robots-Tag:noindex
X-PUBLISHED-TTL:PT1H
BEGIN:VTIMEZONE
TZID:UTC
BEGIN:STANDARD
TZOFFSETFROM:+0000
TZOFFSETTO:+0000
TZNAME:UTC
DTSTART:20250101T000000
END:STANDARD
END:VTIMEZONE
BEGIN:VEVENT
DTSTART;VALUE=DATE:20260323
DTEND;VALUE=DATE:20260328
DTSTAMP:20260421T085232
CREATED:20251125T110846Z
LAST-MODIFIED:20251125T111025Z
UID:2780-1774224000-1774655999@www.waecheadquartersgh.org
SUMMARY:74th Annual Council Meeting in Accra*
DESCRIPTION:
URL:https://www.waecheadquartersgh.org/whq/event/74th-annual-council-meeting-in-accra/
CATEGORIES:Annual General Meeting
END:VEVENT
END:VCALENDAR